BEGIN:VCALENDAR
VERSION:2.0
PRODID:-//ADAC Hansa
METHOD:PUBLISH
BEGIN:VEVENT
UID:69eb6deadbc05@adachansa.de
SUMMARY:47. ADAC Nordheide Jugendkart-Slalom
CLASS:PUBLIC
LOCATION:Gosselk Miettechnik, Tostedt
DESCRIPTION:Veranstaltungsort:\nGosselk Miettechnik\nFriedrich Vorwerk Straße 22\n21255 Tostedt\n\nVeranstalter:\nAutomobil Club "Buchholzer Heidering" e.V.\n\n \nhttps://www.buchholzer-heidering.de\n\nAnsprechpartner:\nHolger Sparsam\n01738925768\nh.sparsm@gmx.de\n\nhttps://www.adachansa.de/8/aktuelle-termine/link/veranstaltungen.php?vsd=1524\n\nJugendkartslalom Hansa Meisterschaftslauf

DTSTART:20260607T094500
DTEND:20260607
DTSTAMP:20260607T094500
END:VEVENT
END:VCALENDAR