BEGIN:VCALENDAR
VERSION:2.0
PRODID:-//ADAC Hansa
METHOD:PUBLISH
BEGIN:VEVENT
UID:69eb6de47c68f@adachansa.de
SUMMARY:4. ADAC Travering YC Autoslalom des AMC Stormarn e.V.
CLASS:PUBLIC
LOCATION:Travering, Bad Oldesloe
DESCRIPTION:Veranstaltungsort:\nTravering\nSehmsdorfer Straße 82\n23843  Bad Oldesloe\nwww.travering.de\n\nVeranstalter:\nAutomobil- und Motor-Sportclub Stormarn e.V.\nSehmsdorfer Straße 82\n23843  Bad Oldesloe\nhttp://www.travering.de\n\nAnsprechpartner:\nHerr Markus Kruse\n0178 / 54 65 265\ninfo.amc-stormarn.de\nwww.travering.de\n\nhttps://www.adachansa.de/8/aktuelle-termine/link/veranstaltungen.php?vsd=1517\n\nYoungsterCup Automobilsslalom

DTSTART:20261031T080000
DTEND:20261031T150000
DTSTAMP:20261031T080000
END:VEVENT
END:VCALENDAR