BEGIN:VCALENDAR
VERSION:2.0
PRODID:-//ADAC Hansa
METHOD:PUBLISH
BEGIN:VEVENT
UID:69eb6dc160aca@adachansa.de
SUMMARY:3. ADAC Travering YC Autoslalom des AMC Stormarn e.V.
CLASS:PUBLIC
LOCATION:Bad Oldesloe, Rethwischfeld
DESCRIPTION:Veranstaltungsort:\nBad Oldesloe\nAlte Ratzeburger Landstraße 31\n23843 Rethwischfeld\n\nVeranstalter:\nAutomobil- und Motor-Sportclub Stormarn e.V.\nSehmsdorfer Straße 82\n23843  Bad Oldesloe\nhttp://www.travering.de\n\nAnsprechpartner:\nHerr Markus Kruse\n0178 / 54 65 265\ninfo.amc-stormarn.de\nwww.travering.de\n\nhttps://www.adachansa.de/8/aktuelle-termine/link/veranstaltungen.php?vsd=1516\n\nYoungsterCup Autoslalom

DTSTART:20261031T080000
DTEND:20261031T150000
DTSTAMP:20261031T080000
END:VEVENT
END:VCALENDAR