BEGIN:VCALENDAR
VERSION:2.0
PRODID:-//ADAC Hansa
METHOD:PUBLISH
BEGIN:VEVENT
UID:69eb6dc1700f6@adachansa.de
SUMMARY:ADAC Strasburger Trainings- u. Einstellfahrt beim MC Touring Strasburg e.V.
CLASS:PUBLIC
LOCATION:Rennbahn Linchenshöh, Strasburg
DESCRIPTION:Veranstaltungsort:\nRennbahn Linchenshöh\nB 104\n17335 Strasburg\n\nVeranstalter:\nMC Touring Strasburg e.V.\nMarkt 23\n17335 Strasburg\n\nAnsprechpartner:\nSven Teschke\n039753 25804\nmc.touring.sbg@web.de\n\nhttps://www.adachansa.de/8/aktuelle-termine/link/veranstaltungen.php?vsd=1484\n\nStrasburger Trainings-u. Einstellfahrt

DTSTART:20260822
DTSTAMP:20260822
END:VEVENT
END:VCALENDAR