BEGIN:VCALENDAR
VERSION:2.0
PRODID:-//ADAC Hansa
METHOD:PUBLISH
BEGIN:VEVENT
UID:69eb6db726f93@adachansa.de
SUMMARY:60. ADAC Strasburger Moto-Cross beim MC Touring Strasburg e.V.
CLASS:PUBLIC
LOCATION:Rennbahn Linchenshöh, Strasburg
DESCRIPTION:Veranstaltungsort:\nRennbahn Linchenshöh\nB 104\n17335 Strasburg\n\nVeranstalter:\nMC Touring Strasburg e.V.\nMarkt 23\n17335 Strasburg\n\nAnsprechpartner:\nSven Teschke\n039753 25804\nmc.touring.sbg@web.de\n\nhttps://www.adachansa.de/8/aktuelle-termine/link/veranstaltungen.php?vsd=1482\n\n60. Strasburger Moto-Cross
Landesmeisterschaft M/V

DTSTART:20260510
DTSTAMP:20260510
END:VEVENT
END:VCALENDAR